BEGIN:VCALENDAR
VERSION:2.0
PRODID:-//EGOTEC//EGOCMS v22//DE
CALSCALE:GREGORIAN
METHOD:PUBLISH
BEGIN:VEVENT
UID:69e73c970c1fa
DTSTAMP:20260421T110007
ORGANIZER:
VENUE:
DTSTART:20260509T163000
DTEND:20260509T235900
SUMMARY:Frühlingsfest
DESCRIPTION:Traditionell mit Bierzeltgarnituren und Livemusik auf dem Kippahn-Festplatzgelände.
END:VEVENT
END:VCALENDAR